BEGIN:VCALENDAR
VERSION:2.0
PRODID:-//환일고등학교 - ECPv6.15.18//NONSGML v1.0//EN
CALSCALE:GREGORIAN
METHOD:PUBLISH
X-WR-CALNAME:환일고등학교
X-ORIGINAL-URL:https://www.hwanil.hs.kr
X-WR-CALDESC:Events for 환일고등학교
REFRESH-INTERVAL;VALUE=DURATION:PT1H
X-Robots-Tag:noindex
X-PUBLISHED-TTL:PT1H
BEGIN:VTIMEZONE
TZID:Asia/Seoul
BEGIN:STANDARD
TZOFFSETFROM:+0900
TZOFFSETTO:+0900
TZNAME:KST
DTSTART:20230101T000000
END:STANDARD
END:VTIMEZONE
BEGIN:VEVENT
DTSTART;VALUE=DATE:20240627
DTEND;VALUE=DATE:20240704
DTSTAMP:20260423T034222
CREATED:20240610T232835Z
LAST-MODIFIED:20240610T232835Z
UID:36850-1719446400-1720051199@www.hwanil.hs.kr
SUMMARY:2024학년도 1학기 기말고사
DESCRIPTION:
URL:https://www.hwanil.hs.kr/event/2024%ed%95%99%eb%85%84%eb%8f%84-1%ed%95%99%ea%b8%b0-%ea%b8%b0%eb%a7%90%ea%b3%a0%ec%82%ac/
CATEGORIES:학사일정
END:VEVENT
BEGIN:VEVENT
DTSTART;VALUE=DATE:20240718
DTEND;VALUE=DATE:20240719
DTSTAMP:20260423T034222
CREATED:20240704T012917Z
LAST-MODIFIED:20240704T012917Z
UID:37055-1721260800-1721347199@www.hwanil.hs.kr
SUMMARY:방학식
DESCRIPTION:
URL:https://www.hwanil.hs.kr/event/%eb%b0%a9%ed%95%99%ec%8b%9d-5/
CATEGORIES:학사일정
END:VEVENT
END:VCALENDAR