BEGIN:VCALENDAR
VERSION:2.0
PRODID:-//환일고등학교 - ECPv6.15.18//NONSGML v1.0//EN
CALSCALE:GREGORIAN
METHOD:PUBLISH
X-ORIGINAL-URL:https://www.hwanil.hs.kr
X-WR-CALDESC:Events for 환일고등학교
REFRESH-INTERVAL;VALUE=DURATION:PT1H
X-Robots-Tag:noindex
X-PUBLISHED-TTL:PT1H
BEGIN:VTIMEZONE
TZID:Asia/Seoul
BEGIN:STANDARD
TZOFFSETFROM:+0900
TZOFFSETTO:+0900
TZNAME:KST
DTSTART:20230101T000000
END:STANDARD
END:VTIMEZONE
BEGIN:VEVENT
DTSTART;VALUE=DATE:20240401
DTEND;VALUE=DATE:20240402
DTSTAMP:20260423T074308
CREATED:20240327T024133Z
LAST-MODIFIED:20240327T024133Z
UID:36394-1711929600-1712015999@www.hwanil.hs.kr
SUMMARY:부활절 촛불예배
DESCRIPTION:
URL:https://www.hwanil.hs.kr/event/%eb%b6%80%ed%99%9c%ec%a0%88-%ec%b4%9b%eb%b6%88%ec%98%88%eb%b0%b0/
CATEGORIES:학사일정
END:VEVENT
BEGIN:VEVENT
DTSTART;VALUE=DATE:20240424
DTEND;VALUE=DATE:20240501
DTSTAMP:20260423T074308
CREATED:20240327T024230Z
LAST-MODIFIED:20240327T024230Z
UID:36396-1713916800-1714521599@www.hwanil.hs.kr
SUMMARY:중간고사
DESCRIPTION:
URL:https://www.hwanil.hs.kr/event/%ec%a4%91%ea%b0%84%ea%b3%a0%ec%82%ac/
CATEGORIES:학사일정
END:VEVENT
END:VCALENDAR