BEGIN:VCALENDAR
VERSION:2.0
PRODID:-//환일고등학교 - ECPv6.15.18//NONSGML v1.0//EN
CALSCALE:GREGORIAN
METHOD:PUBLISH
X-WR-CALNAME:환일고등학교
X-ORIGINAL-URL:https://www.hwanil.hs.kr
X-WR-CALDESC:Events for 환일고등학교
REFRESH-INTERVAL;VALUE=DURATION:PT1H
X-Robots-Tag:noindex
X-PUBLISHED-TTL:PT1H
BEGIN:VTIMEZONE
TZID:Asia/Seoul
BEGIN:STANDARD
TZOFFSETFROM:+0900
TZOFFSETTO:+0900
TZNAME:KST
DTSTART:20220101T000000
END:STANDARD
END:VTIMEZONE
BEGIN:VEVENT
DTSTART;VALUE=DATE:20230601
DTEND;VALUE=DATE:20230602
DTSTAMP:20260423T221316
CREATED:20230508T035347Z
LAST-MODIFIED:20230508T035347Z
UID:34373-1685577600-1685663999@www.hwanil.hs.kr
SUMMARY:고3 대수능모의평가/고1\,2 진단평가
DESCRIPTION:
URL:https://www.hwanil.hs.kr/event/%ea%b3%a03-%eb%8c%80%ec%88%98%eb%8a%a5%eb%aa%a8%ec%9d%98%ed%8f%89%ea%b0%80-%ea%b3%a012-%ec%a7%84%eb%8b%a8%ed%8f%89%ea%b0%80/
CATEGORIES:학사일정
END:VEVENT
BEGIN:VEVENT
DTSTART;VALUE=DATE:20230602
DTEND;VALUE=DATE:20230603
DTSTAMP:20260423T221316
CREATED:20230508T035408Z
LAST-MODIFIED:20230508T035408Z
UID:34375-1685664000-1685750399@www.hwanil.hs.kr
SUMMARY:고3 스포츠 축전/고1\,2 등행
DESCRIPTION:
URL:https://www.hwanil.hs.kr/event/%ea%b3%a03-%ec%8a%a4%ed%8f%ac%ec%b8%a0-%ec%b6%95%ec%a0%84-%ea%b3%a012-%eb%93%b1%ed%96%89/
CATEGORIES:학사일정
END:VEVENT
BEGIN:VEVENT
DTSTART;VALUE=DATE:20230609
DTEND;VALUE=DATE:20230610
DTSTAMP:20260423T221316
CREATED:20230508T035444Z
LAST-MODIFIED:20230508T035444Z
UID:34377-1686268800-1686355199@www.hwanil.hs.kr
SUMMARY:고1 스포츠 축전
DESCRIPTION:
URL:https://www.hwanil.hs.kr/event/%ea%b3%a01-%ec%8a%a4%ed%8f%ac%ec%b8%a0-%ec%b6%95%ec%a0%84-2/
CATEGORIES:학사일정
END:VEVENT
BEGIN:VEVENT
DTSTART;VALUE=DATE:20230619
DTEND;VALUE=DATE:20230620
DTSTAMP:20260423T221316
CREATED:20230508T035510Z
LAST-MODIFIED:20230508T035510Z
UID:34379-1687132800-1687219199@www.hwanil.hs.kr
SUMMARY:전교학생회장 선거일
DESCRIPTION:
URL:https://www.hwanil.hs.kr/event/%ec%a0%84%ea%b5%90%ed%95%99%ec%83%9d%ed%9a%8c%ec%9e%a5-%ec%84%a0%ea%b1%b0%ec%9d%bc/
CATEGORIES:학사일정
END:VEVENT
BEGIN:VEVENT
DTSTART;VALUE=DATE:20230623
DTEND;VALUE=DATE:20230624
DTSTAMP:20260423T221316
CREATED:20230508T035536Z
LAST-MODIFIED:20230508T035536Z
UID:34381-1687478400-1687564799@www.hwanil.hs.kr
SUMMARY:안보체험 행사
DESCRIPTION:
URL:https://www.hwanil.hs.kr/event/%ec%95%88%eb%b3%b4%ec%b2%b4%ed%97%98-%ed%96%89%ec%82%ac/
CATEGORIES:학사일정
END:VEVENT
BEGIN:VEVENT
DTSTART;VALUE=DATE:20230627
DTEND;VALUE=DATE:20230704
DTSTAMP:20260423T221316
CREATED:20230508T035611Z
LAST-MODIFIED:20230508T035611Z
UID:34383-1687824000-1688428799@www.hwanil.hs.kr
SUMMARY:고2\, 3 기말고사
DESCRIPTION:
URL:https://www.hwanil.hs.kr/event/%ea%b3%a02-3-%ea%b8%b0%eb%a7%90%ea%b3%a0%ec%82%ac/
CATEGORIES:학사일정
END:VEVENT
BEGIN:VEVENT
DTSTART;VALUE=DATE:20230628
DTEND;VALUE=DATE:20230704
DTSTAMP:20260423T221316
CREATED:20230508T035645Z
LAST-MODIFIED:20230508T035645Z
UID:34385-1687910400-1688428799@www.hwanil.hs.kr
SUMMARY:고1 기말고사
DESCRIPTION:
URL:https://www.hwanil.hs.kr/event/%ea%b3%a01-%ea%b8%b0%eb%a7%90%ea%b3%a0%ec%82%ac-2/
CATEGORIES:학사일정
END:VEVENT
END:VCALENDAR