BEGIN:VCALENDAR
VERSION:2.0
PRODID:-//환일고등학교 - ECPv6.15.18//NONSGML v1.0//EN
CALSCALE:GREGORIAN
METHOD:PUBLISH
X-WR-CALNAME:환일고등학교
X-ORIGINAL-URL:https://www.hwanil.hs.kr
X-WR-CALDESC:Events for 환일고등학교
REFRESH-INTERVAL;VALUE=DURATION:PT1H
X-Robots-Tag:noindex
X-PUBLISHED-TTL:PT1H
BEGIN:VTIMEZONE
TZID:Asia/Seoul
BEGIN:STANDARD
TZOFFSETFROM:+0900
TZOFFSETTO:+0900
TZNAME:KST
DTSTART:20220101T000000
END:STANDARD
END:VTIMEZONE
BEGIN:VEVENT
DTSTART;VALUE=DATE:20230423
DTEND;VALUE=DATE:20230502
DTSTAMP:20260423T233556
CREATED:20220615T023329Z
LAST-MODIFIED:20230321T101435Z
UID:31556-1682208000-1682985599@www.hwanil.hs.kr
SUMMARY:고2\,3 중간고사
DESCRIPTION:
URL:https://www.hwanil.hs.kr/event/%ea%b3%a02-%ec%a4%91%ea%b0%84%ea%b3%a0%ec%82%ac/
CATEGORIES:학사일정
END:VEVENT
BEGIN:VEVENT
DTSTART;VALUE=DATE:20230426
DTEND;VALUE=DATE:20230502
DTSTAMP:20260423T233556
CREATED:20220322T035722Z
LAST-MODIFIED:20230321T101530Z
UID:29774-1682467200-1682985599@www.hwanil.hs.kr
SUMMARY:고1 중간고사
DESCRIPTION:
URL:https://www.hwanil.hs.kr/event/%ea%b3%a01-2-%ec%a4%91%ea%b0%84%ea%b3%a0%ec%82%ac/
CATEGORIES:학사일정
END:VEVENT
BEGIN:VEVENT
DTSTART;VALUE=DATE:20230512
DTEND;VALUE=DATE:20230513
DTSTAMP:20260423T233556
CREATED:20230508T035113Z
LAST-MODIFIED:20230508T035113Z
UID:34362-1683849600-1683935999@www.hwanil.hs.kr
SUMMARY:고2 스포츠 축전
DESCRIPTION:
URL:https://www.hwanil.hs.kr/event/%ea%b3%a02-%ec%8a%a4%ed%8f%ac%ec%b8%a0-%ec%b6%95%ec%a0%84-2/
CATEGORIES:학사일정
END:VEVENT
BEGIN:VEVENT
DTSTART;VALUE=DATE:20230515
DTEND;VALUE=DATE:20230516
DTSTAMP:20260423T233556
CREATED:20230508T035143Z
LAST-MODIFIED:20230508T035143Z
UID:34365-1684108800-1684195199@www.hwanil.hs.kr
SUMMARY:스승의날 행사
DESCRIPTION:
URL:https://www.hwanil.hs.kr/event/%ec%8a%a4%ec%8a%b9%ec%9d%98%eb%82%a0-%ed%96%89%ec%82%ac-2/
CATEGORIES:학사일정
END:VEVENT
BEGIN:VEVENT
DTSTART;VALUE=DATE:20230517
DTEND;VALUE=DATE:20230518
DTSTAMP:20260423T233556
CREATED:20230508T035217Z
LAST-MODIFIED:20230508T035217Z
UID:34367-1684281600-1684367999@www.hwanil.hs.kr
SUMMARY:대학탐방
DESCRIPTION:
URL:https://www.hwanil.hs.kr/event/%eb%8c%80%ed%95%99%ed%83%90%eb%b0%a9/
CATEGORIES:학사일정
END:VEVENT
BEGIN:VEVENT
DTSTART;VALUE=DATE:20230524
DTEND;VALUE=DATE:20230525
DTSTAMP:20260423T233556
CREATED:20230508T035247Z
LAST-MODIFIED:20230508T035247Z
UID:34369-1684886400-1684972799@www.hwanil.hs.kr
SUMMARY:고2 교육과정 설명회
DESCRIPTION:
URL:https://www.hwanil.hs.kr/event/%ea%b3%a02-%ea%b5%90%ec%9c%a1%ea%b3%bc%ec%a0%95-%ec%84%a4%eb%aa%85%ed%9a%8c/
CATEGORIES:학사일정
END:VEVENT
BEGIN:VEVENT
DTSTART;VALUE=DATE:20230526
DTEND;VALUE=DATE:20230527
DTSTAMP:20260423T233556
CREATED:20230508T035307Z
LAST-MODIFIED:20230508T035307Z
UID:34371-1685059200-1685145599@www.hwanil.hs.kr
SUMMARY:합창경연
DESCRIPTION:
URL:https://www.hwanil.hs.kr/event/%ed%95%a9%ec%b0%bd%ea%b2%bd%ec%97%b0/
CATEGORIES:학사일정
END:VEVENT
END:VCALENDAR