BEGIN:VCALENDAR
VERSION:2.0
PRODID:-//환일고등학교 - ECPv6.15.18//NONSGML v1.0//EN
CALSCALE:GREGORIAN
METHOD:PUBLISH
X-ORIGINAL-URL:https://www.hwanil.hs.kr
X-WR-CALDESC:Events for 환일고등학교
REFRESH-INTERVAL;VALUE=DURATION:PT1H
X-Robots-Tag:noindex
X-PUBLISHED-TTL:PT1H
BEGIN:VTIMEZONE
TZID:Asia/Seoul
BEGIN:STANDARD
TZOFFSETFROM:+0900
TZOFFSETTO:+0900
TZNAME:KST
DTSTART:20220101T000000
END:STANDARD
END:VTIMEZONE
BEGIN:VEVENT
DTSTART;VALUE=DATE:20230302
DTEND;VALUE=DATE:20230303
DTSTAMP:20260424T021635
CREATED:20230220T020135Z
LAST-MODIFIED:20230220T020135Z
UID:33898-1677715200-1677801599@www.hwanil.hs.kr
SUMMARY:개학식
DESCRIPTION:
URL:https://www.hwanil.hs.kr/event/%ea%b0%9c%ed%95%99%ec%8b%9d-2/
CATEGORIES:학사일정
END:VEVENT
BEGIN:VEVENT
DTSTART;VALUE=DATE:20230323
DTEND;VALUE=DATE:20230324
DTSTAMP:20260424T021635
CREATED:20230303T020532Z
LAST-MODIFIED:20230303T020556Z
UID:33971-1679529600-1679615999@www.hwanil.hs.kr
SUMMARY:전국연합학력평가
DESCRIPTION:
URL:https://www.hwanil.hs.kr/event/%ec%a0%84%ea%b5%ad%ec%97%b0%ed%95%a9%ed%95%99%eb%a0%a5%ed%8f%89%ea%b0%80-2/
CATEGORIES:학사일정
END:VEVENT
BEGIN:VEVENT
DTSTART;VALUE=DATE:20230330
DTEND;VALUE=DATE:20230331
DTSTAMP:20260424T021635
CREATED:20230321T101250Z
LAST-MODIFIED:20230321T101250Z
UID:34133-1680134400-1680220799@www.hwanil.hs.kr
SUMMARY:수업공개 및 학교 방문의 날
DESCRIPTION:
URL:https://www.hwanil.hs.kr/event/%ec%88%98%ec%97%85%ea%b3%b5%ea%b0%9c-%eb%b0%8f-%ed%95%99%ea%b5%90-%eb%b0%a9%eb%ac%b8%ec%9d%98-%eb%82%a0/
END:VEVENT
END:VCALENDAR