BEGIN:VCALENDAR
VERSION:2.0
PRODID:-//환일고등학교 - ECPv6.15.18//NONSGML v1.0//EN
CALSCALE:GREGORIAN
METHOD:PUBLISH
X-ORIGINAL-URL:https://www.hwanil.hs.kr
X-WR-CALDESC:Events for 환일고등학교
REFRESH-INTERVAL;VALUE=DURATION:PT1H
X-Robots-Tag:noindex
X-PUBLISHED-TTL:PT1H
BEGIN:VTIMEZONE
TZID:Asia/Seoul
BEGIN:STANDARD
TZOFFSETFROM:+0900
TZOFFSETTO:+0900
TZNAME:KST
DTSTART:20210101T000000
END:STANDARD
END:VTIMEZONE
BEGIN:VEVENT
DTSTART;VALUE=DATE:20221205
DTEND;VALUE=DATE:20221210
DTSTAMP:20260424T054904
CREATED:20221129T034418Z
LAST-MODIFIED:20221129T034418Z
UID:33615-1670198400-1670630399@www.hwanil.hs.kr
SUMMARY:고2 기말고사
DESCRIPTION:
URL:https://www.hwanil.hs.kr/event/%ea%b3%a02-%ea%b8%b0%eb%a7%90%ea%b3%a0%ec%82%ac/
CATEGORIES:학사일정
END:VEVENT
BEGIN:VEVENT
DTSTART;VALUE=DATE:20221206
DTEND;VALUE=DATE:20221210
DTSTAMP:20260424T054904
CREATED:20221129T034503Z
LAST-MODIFIED:20221129T034503Z
UID:33617-1670284800-1670630399@www.hwanil.hs.kr
SUMMARY:고1 기말고사
DESCRIPTION:
URL:https://www.hwanil.hs.kr/event/%ea%b3%a01-%ea%b8%b0%eb%a7%90%ea%b3%a0%ec%82%ac/
CATEGORIES:학사일정
END:VEVENT
BEGIN:VEVENT
DTSTART;VALUE=DATE:20221220
DTEND;VALUE=DATE:20221221
DTSTAMP:20260424T054904
CREATED:20221213T012644Z
LAST-MODIFIED:20221213T012644Z
UID:33660-1671494400-1671580799@www.hwanil.hs.kr
SUMMARY:성가경연대회\, 고1 골든벨
DESCRIPTION:
URL:https://www.hwanil.hs.kr/event/%ec%84%b1%ea%b0%80%ea%b2%bd%ec%97%b0%eb%8c%80%ed%9a%8c-%ea%b3%a01-%ea%b3%a8%eb%93%a0%eb%b2%a8/
CATEGORIES:학사일정
END:VEVENT
BEGIN:VEVENT
DTSTART;VALUE=DATE:20221223
DTEND;VALUE=DATE:20221224
DTSTAMP:20260424T054904
CREATED:20221213T012603Z
LAST-MODIFIED:20221213T012603Z
UID:33658-1671753600-1671839999@www.hwanil.hs.kr
SUMMARY:성탄절 예배
DESCRIPTION:
URL:https://www.hwanil.hs.kr/event/%ec%84%b1%ed%83%84%ec%a0%88-%ec%98%88%eb%b0%b0/
CATEGORIES:학사일정
END:VEVENT
BEGIN:VEVENT
DTSTART;VALUE=DATE:20221227
DTEND;VALUE=DATE:20221228
DTSTAMP:20260424T054904
CREATED:20221129T034613Z
LAST-MODIFIED:20221129T034613Z
UID:33619-1672099200-1672185599@www.hwanil.hs.kr
SUMMARY:방학식
DESCRIPTION:
URL:https://www.hwanil.hs.kr/event/%eb%b0%a9%ed%95%99%ec%8b%9d-2/
CATEGORIES:학사일정
END:VEVENT
END:VCALENDAR