BEGIN:VCALENDAR
VERSION:2.0
PRODID:-//환일고등학교 - ECPv6.15.18//NONSGML v1.0//EN
CALSCALE:GREGORIAN
METHOD:PUBLISH
X-WR-CALNAME:환일고등학교
X-ORIGINAL-URL:https://www.hwanil.hs.kr
X-WR-CALDESC:Events for 환일고등학교
REFRESH-INTERVAL;VALUE=DURATION:PT1H
X-Robots-Tag:noindex
X-PUBLISHED-TTL:PT1H
BEGIN:VTIMEZONE
TZID:Asia/Seoul
BEGIN:STANDARD
TZOFFSETFROM:+0900
TZOFFSETTO:+0900
TZNAME:KST
DTSTART:20210101T000000
END:STANDARD
END:VTIMEZONE
BEGIN:VEVENT
DTSTART;VALUE=DATE:20220909
DTEND;VALUE=DATE:20220913
DTSTAMP:20260424T094307
CREATED:20220901T044045Z
LAST-MODIFIED:20220901T044045Z
UID:32828-1662681600-1663027199@www.hwanil.hs.kr
SUMMARY:추석 연휴
DESCRIPTION:
URL:https://www.hwanil.hs.kr/event/%ec%b6%94%ec%84%9d-%ec%97%b0%ed%9c%b4-2/
CATEGORIES:학사일정
END:VEVENT
BEGIN:VEVENT
DTSTART;VALUE=DATE:20220923
DTEND;VALUE=DATE:20220924
DTSTAMP:20260424T094307
CREATED:20220901T043904Z
LAST-MODIFIED:20220901T044010Z
UID:32824-1663891200-1663977599@www.hwanil.hs.kr
SUMMARY:개교기념식 및 예배\, 가을밤 열린 음악회
DESCRIPTION:
URL:https://www.hwanil.hs.kr/event/%ec%b6%94%ec%84%9d-%ec%97%b0%ed%9c%b4/
CATEGORIES:학사일정
END:VEVENT
BEGIN:VEVENT
DTSTART;VALUE=DATE:20220926
DTEND;VALUE=DATE:20220927
DTSTAMP:20260424T094307
CREATED:20220914T020134Z
LAST-MODIFIED:20220914T020134Z
UID:32955-1664150400-1664236799@www.hwanil.hs.kr
SUMMARY:개교기념재량휴업일
DESCRIPTION:
URL:https://www.hwanil.hs.kr/event/%ea%b0%9c%ea%b5%90%ea%b8%b0%eb%85%90%ec%9e%ac%eb%9f%89%ed%9c%b4%ec%97%85%ec%9d%bc/
CATEGORIES:학사일정
END:VEVENT
END:VCALENDAR