BEGIN:VCALENDAR
VERSION:2.0
PRODID:-//환일고등학교 - ECPv6.15.18//NONSGML v1.0//EN
CALSCALE:GREGORIAN
METHOD:PUBLISH
X-ORIGINAL-URL:https://www.hwanil.hs.kr
X-WR-CALDESC:Events for 환일고등학교
REFRESH-INTERVAL;VALUE=DURATION:PT1H
X-Robots-Tag:noindex
X-PUBLISHED-TTL:PT1H
BEGIN:VTIMEZONE
TZID:Asia/Seoul
BEGIN:STANDARD
TZOFFSETFROM:+0900
TZOFFSETTO:+0900
TZNAME:KST
DTSTART:20210101T000000
END:STANDARD
END:VTIMEZONE
BEGIN:VEVENT
DTSTART;VALUE=DATE:20220629
DTEND;VALUE=DATE:20220705
DTSTAMP:20260424T120956
CREATED:20220615T023410Z
LAST-MODIFIED:20220615T023451Z
UID:31560-1656460800-1656979199@www.hwanil.hs.kr
SUMMARY:고1 중간고사
DESCRIPTION:
URL:https://www.hwanil.hs.kr/event/%ea%b3%a01-%ec%a4%91%ea%b0%84%ea%b3%a0%ec%82%ac/
CATEGORIES:학사일정
END:VEVENT
BEGIN:VEVENT
DTSTART;VALUE=DATE:20220705
DTEND;VALUE=DATE:20220708
DTSTAMP:20260424T120956
CREATED:20220615T062107Z
LAST-MODIFIED:20220615T062107Z
UID:31562-1656979200-1657238399@www.hwanil.hs.kr
SUMMARY:고1 소규모 테마여행
DESCRIPTION:
URL:https://www.hwanil.hs.kr/event/%ea%b3%a01-%ec%86%8c%ea%b7%9c%eb%aa%a8-%ed%85%8c%eb%a7%88%ec%97%ac%ed%96%89/
CATEGORIES:학사일정
END:VEVENT
BEGIN:VEVENT
DTSTART;VALUE=DATE:20220707
DTEND;VALUE=DATE:20220710
DTSTAMP:20260424T120956
CREATED:20220615T062136Z
LAST-MODIFIED:20220615T062136Z
UID:31564-1657152000-1657411199@www.hwanil.hs.kr
SUMMARY:고2 소규모 테마여행
DESCRIPTION:
URL:https://www.hwanil.hs.kr/event/%ea%b3%a02-%ec%86%8c%ea%b7%9c%eb%aa%a8-%ed%85%8c%eb%a7%88%ec%97%ac%ed%96%89-2/
CATEGORIES:학사일정
END:VEVENT
BEGIN:VEVENT
DTSTART;VALUE=DATE:20220715
DTEND;VALUE=DATE:20220716
DTSTAMP:20260424T120956
CREATED:20220615T062211Z
LAST-MODIFIED:20220615T062211Z
UID:31566-1657843200-1657929599@www.hwanil.hs.kr
SUMMARY:방학식
DESCRIPTION:
URL:https://www.hwanil.hs.kr/event/%eb%b0%a9%ed%95%99%ec%8b%9d/
CATEGORIES:학사일정
END:VEVENT
BEGIN:VEVENT
DTSTART;VALUE=DATE:20220718
DTEND;VALUE=DATE:20220803
DTSTAMP:20260424T120956
CREATED:20220714T023552Z
LAST-MODIFIED:20220714T023552Z
UID:32290-1658102400-1659484799@www.hwanil.hs.kr
SUMMARY:여름방학 방과후학교
DESCRIPTION:
URL:https://www.hwanil.hs.kr/event/%ec%97%ac%eb%a6%84%eb%b0%a9%ed%95%99-%eb%b0%a9%ea%b3%bc%ed%9b%84%ed%95%99%ea%b5%90/
CATEGORIES:학사일정
END:VEVENT
END:VCALENDAR