BEGIN:VCALENDAR
VERSION:2.0
PRODID:-//환일고등학교 - ECPv6.15.18//NONSGML v1.0//EN
CALSCALE:GREGORIAN
METHOD:PUBLISH
X-ORIGINAL-URL:https://www.hwanil.hs.kr
X-WR-CALDESC:Events for 환일고등학교
REFRESH-INTERVAL;VALUE=DURATION:PT1H
X-Robots-Tag:noindex
X-PUBLISHED-TTL:PT1H
BEGIN:VTIMEZONE
TZID:Asia/Seoul
BEGIN:STANDARD
TZOFFSETFROM:+0900
TZOFFSETTO:+0900
TZNAME:KST
DTSTART:20210101T000000
END:STANDARD
END:VTIMEZONE
BEGIN:VEVENT
DTSTART;VALUE=DATE:20220426
DTEND;VALUE=DATE:20220503
DTSTAMP:20260424T142822
CREATED:20220322T035558Z
LAST-MODIFIED:20220322T035558Z
UID:29772-1650931200-1651535999@www.hwanil.hs.kr
SUMMARY:고3 중간고사
DESCRIPTION:
URL:https://www.hwanil.hs.kr/event/%ea%b3%a03-%ec%a4%91%ea%b0%84%ea%b3%a0%ec%82%ac/
CATEGORIES:학사일정
END:VEVENT
BEGIN:VEVENT
DTSTART;VALUE=DATE:20220506
DTEND;VALUE=DATE:20220507
DTSTAMP:20260424T142822
CREATED:20220429T010631Z
LAST-MODIFIED:20220429T010740Z
UID:30842-1651795200-1651881599@www.hwanil.hs.kr
SUMMARY:고2 스포츠 축전\, 고3 문화탐방
DESCRIPTION:
URL:https://www.hwanil.hs.kr/event/%ea%b3%a02-%ec%8a%a4%ed%8f%ac%ec%b8%a0-%ec%b6%95%ec%a0%84/
CATEGORIES:학사일정
END:VEVENT
BEGIN:VEVENT
DTSTART;VALUE=DATE:20220513
DTEND;VALUE=DATE:20220514
DTSTAMP:20260424T142822
CREATED:20220429T011511Z
LAST-MODIFIED:20220504T040454Z
UID:30849-1652400000-1652486399@www.hwanil.hs.kr
SUMMARY:스승의날 행사
DESCRIPTION:
URL:https://www.hwanil.hs.kr/event/%ec%8a%a4%ec%8a%b9%ec%9d%98%eb%82%a0-%ed%96%89%ec%82%ac/
CATEGORIES:학사일정
END:VEVENT
BEGIN:VEVENT
DTSTART;VALUE=DATE:20220523
DTEND;VALUE=DATE:20220526
DTSTAMP:20260424T142822
CREATED:20220516T085220Z
LAST-MODIFIED:20220516T085220Z
UID:31116-1653264000-1653523199@www.hwanil.hs.kr
SUMMARY:고2 소규모 테마여행
DESCRIPTION:
URL:https://www.hwanil.hs.kr/event/%ea%b3%a02-%ec%86%8c%ea%b7%9c%eb%aa%a8-%ed%85%8c%eb%a7%88%ec%97%ac%ed%96%89/
CATEGORIES:학사일정
END:VEVENT
BEGIN:VEVENT
DTSTART;VALUE=DATE:20220531
DTEND;VALUE=DATE:20220601
DTSTAMP:20260424T142822
CREATED:20220504T062937Z
LAST-MODIFIED:20220523T231302Z
UID:30879-1653955200-1654041599@www.hwanil.hs.kr
SUMMARY:고1\, 2 합창 경연
DESCRIPTION:
URL:https://www.hwanil.hs.kr/event/%ea%b3%a01-2-%ed%95%a9%ec%b0%bd-%ea%b2%bd%ec%97%b0/
CATEGORIES:학사일정
END:VEVENT
END:VCALENDAR