BEGIN:VCALENDAR
VERSION:2.0
PRODID:-//환일고등학교 - ECPv6.15.18//NONSGML v1.0//EN
CALSCALE:GREGORIAN
METHOD:PUBLISH
X-WR-CALNAME:환일고등학교
X-ORIGINAL-URL:https://www.hwanil.hs.kr
X-WR-CALDESC:Events for 환일고등학교
REFRESH-INTERVAL;VALUE=DURATION:PT1H
X-Robots-Tag:noindex
X-PUBLISHED-TTL:PT1H
BEGIN:VTIMEZONE
TZID:Asia/Seoul
BEGIN:STANDARD
TZOFFSETFROM:+0900
TZOFFSETTO:+0900
TZNAME:KST
DTSTART:20200101T000000
END:STANDARD
END:VTIMEZONE
BEGIN:VEVENT
DTSTART;VALUE=DATE:20211118
DTEND;VALUE=DATE:20211119
DTSTAMP:20260423T070209
CREATED:20211109T062047Z
LAST-MODIFIED:20211109T062047Z
UID:28666-1637193600-1637279999@www.hwanil.hs.kr
SUMMARY:대학수학능력시험
DESCRIPTION:
URL:https://www.hwanil.hs.kr/event/%eb%8c%80%ed%95%99%ec%88%98%ed%95%99%eb%8a%a5%eb%a0%a5%ec%8b%9c%ed%97%98/
CATEGORIES:학사일정
END:VEVENT
BEGIN:VEVENT
DTSTART;TZID=Asia/Seoul:20211028T080000
DTEND;TZID=Asia/Seoul:20211028T080000
DTSTAMP:20260423T070209
CREATED:20211028T003045Z
LAST-MODIFIED:20211103T093825Z
UID:28592-1635408000-1635408000@www.hwanil.hs.kr
SUMMARY:중3 학부모를 위한 입학설명회
DESCRIPTION:10월 29일(금) 18:00 ~ 20:00
URL:https://www.hwanil.hs.kr/event/%ec%a4%913-%ed%95%99%eb%b6%80%eb%aa%a8%eb%a5%bc-%ec%9c%84%ed%95%9c-%ec%9e%85%ed%95%99%ec%84%a4%eb%aa%85%ed%9a%8c/
CATEGORIES:학사일정
END:VEVENT
END:VCALENDAR