BEGIN:VCALENDAR
VERSION:2.0
PRODID:-//환일고등학교 - ECPv6.15.18//NONSGML v1.0//EN
CALSCALE:GREGORIAN
METHOD:PUBLISH
X-WR-CALNAME:환일고등학교
X-ORIGINAL-URL:https://www.hwanil.hs.kr
X-WR-CALDESC:Events for 환일고등학교
REFRESH-INTERVAL;VALUE=DURATION:PT1H
X-Robots-Tag:noindex
X-PUBLISHED-TTL:PT1H
BEGIN:VTIMEZONE
TZID:Asia/Seoul
BEGIN:STANDARD
TZOFFSETFROM:+0900
TZOFFSETTO:+0900
TZNAME:KST
DTSTART:20240101T000000
END:STANDARD
END:VTIMEZONE
BEGIN:VEVENT
DTSTART;VALUE=DATE:20250929
DTEND;VALUE=DATE:20251011
DTSTAMP:20260422T085149
CREATED:20250828T002257Z
LAST-MODIFIED:20250828T002257Z
UID:38996-1759104000-1760140799@www.hwanil.hs.kr
SUMMARY:2025 2학기 중간고사
DESCRIPTION:
URL:https://www.hwanil.hs.kr/event/2025-2%ed%95%99%ea%b8%b0-%ec%a4%91%ea%b0%84%ea%b3%a0%ec%82%ac/
CATEGORIES:학사일정
END:VEVENT
BEGIN:VEVENT
DTSTART;VALUE=DATE:20251117
DTEND;VALUE=DATE:20251122
DTSTAMP:20260422T085149
CREATED:20251016T004544Z
LAST-MODIFIED:20251016T004544Z
UID:39321-1763337600-1763769599@www.hwanil.hs.kr
SUMMARY:2025학년도 2학기 고3 기말고사
DESCRIPTION:
URL:https://www.hwanil.hs.kr/event/2025%ed%95%99%eb%85%84%eb%8f%84-2%ed%95%99%ea%b8%b0-%ea%b3%a03-%ea%b8%b0%eb%a7%90%ea%b3%a0%ec%82%ac/
CATEGORIES:학사일정
END:VEVENT
BEGIN:VEVENT
DTSTART;VALUE=DATE:20251203
DTEND;VALUE=DATE:20251210
DTSTAMP:20260422T085149
CREATED:20251016T004636Z
LAST-MODIFIED:20251016T004636Z
UID:39323-1764720000-1765324799@www.hwanil.hs.kr
SUMMARY:2025학년도 2학기 고1\,2 기말고사
DESCRIPTION:
URL:https://www.hwanil.hs.kr/event/2025%ed%95%99%eb%85%84%eb%8f%84-2%ed%95%99%ea%b8%b0-%ea%b3%a012-%ea%b8%b0%eb%a7%90%ea%b3%a0%ec%82%ac/
CATEGORIES:학사일정
END:VEVENT
BEGIN:VEVENT
DTSTART;VALUE=DATE:20251230
DTEND;VALUE=DATE:20251231
DTSTAMP:20260422T085149
CREATED:20251221T085347Z
LAST-MODIFIED:20251221T085347Z
UID:40259-1767052800-1767139199@www.hwanil.hs.kr
SUMMARY:겨울방학식
DESCRIPTION:
URL:https://www.hwanil.hs.kr/event/%ea%b2%a8%ec%9a%b8%eb%b0%a9%ed%95%99%ec%8b%9d/
CATEGORIES:학사일정
END:VEVENT
BEGIN:VEVENT
DTSTART;VALUE=DATE:20260105
DTEND;VALUE=DATE:20260117
DTSTAMP:20260422T085149
CREATED:20251221T085726Z
LAST-MODIFIED:20251221T085726Z
UID:40261-1767571200-1768607999@www.hwanil.hs.kr
SUMMARY:겨울방학 방과후
DESCRIPTION:
URL:https://www.hwanil.hs.kr/event/%ea%b2%a8%ec%9a%b8%eb%b0%a9%ed%95%99-%eb%b0%a9%ea%b3%bc%ed%9b%84/
CATEGORIES:학사일정
END:VEVENT
BEGIN:VEVENT
DTSTART;VALUE=DATE:20260317
DTEND;VALUE=DATE:20260318
DTSTAMP:20260422T085149
CREATED:20251221T085914Z
LAST-MODIFIED:20260312T103811Z
UID:40265-1773705600-1773791999@www.hwanil.hs.kr
SUMMARY:수업 공개 및 학교 방문의 날(학부모 총회)
DESCRIPTION:
URL:https://www.hwanil.hs.kr/event/%ec%a2%85%ec%97%85%ec%8b%9d-2/
CATEGORIES:학사일정
END:VEVENT
BEGIN:VEVENT
DTSTART;VALUE=DATE:20260424
DTEND;VALUE=DATE:20260428
DTSTAMP:20260422T085149
CREATED:20251221T085820Z
LAST-MODIFIED:20260406T224656Z
UID:40263-1776988800-1777334399@www.hwanil.hs.kr
SUMMARY:중간고사(전학년)
DESCRIPTION:
URL:https://www.hwanil.hs.kr/event/%ea%b0%9c%ed%95%99%ec%8b%9d-5/
CATEGORIES:학사일정
END:VEVENT
END:VCALENDAR