BEGIN:VCALENDAR
VERSION:2.0
PRODID:-//환일고등학교 - ECPv6.15.18//NONSGML v1.0//EN
CALSCALE:GREGORIAN
METHOD:PUBLISH
X-WR-CALNAME:환일고등학교
X-ORIGINAL-URL:https://www.hwanil.hs.kr
X-WR-CALDESC:Events for 환일고등학교
REFRESH-INTERVAL;VALUE=DURATION:PT1H
X-Robots-Tag:noindex
X-PUBLISHED-TTL:PT1H
BEGIN:VTIMEZONE
TZID:Asia/Seoul
BEGIN:STANDARD
TZOFFSETFROM:+0900
TZOFFSETTO:+0900
TZNAME:KST
DTSTART:20230101T000000
END:STANDARD
END:VTIMEZONE
BEGIN:VEVENT
DTSTART;VALUE=DATE:20240531
DTEND;VALUE=DATE:20240601
DTSTAMP:20260423T062554
CREATED:20240501T001413Z
LAST-MODIFIED:20240501T001413Z
UID:36627-1717113600-1717199999@www.hwanil.hs.kr
SUMMARY:중고합동 합창경연
DESCRIPTION:
URL:https://www.hwanil.hs.kr/event/%ec%a4%91%ea%b3%a0%ed%95%a9%eb%8f%99-%ed%95%a9%ec%b0%bd%ea%b2%bd%ec%97%b0/
CATEGORIES:학사일정
END:VEVENT
END:VCALENDAR