BEGIN:VCALENDAR
VERSION:2.0
PRODID:-//환일고등학교 - ECPv6.15.18//NONSGML v1.0//EN
CALSCALE:GREGORIAN
METHOD:PUBLISH
X-ORIGINAL-URL:https://www.hwanil.hs.kr
X-WR-CALDESC:Events for 환일고등학교
REFRESH-INTERVAL;VALUE=DURATION:PT1H
X-Robots-Tag:noindex
X-PUBLISHED-TTL:PT1H
BEGIN:VTIMEZONE
TZID:Asia/Seoul
BEGIN:STANDARD
TZOFFSETFROM:+0900
TZOFFSETTO:+0900
TZNAME:KST
DTSTART:20230101T000000
END:STANDARD
END:VTIMEZONE
BEGIN:VEVENT
DTSTART;VALUE=DATE:20240510
DTEND;VALUE=DATE:20240511
DTSTAMP:20260423T074311
CREATED:20240501T001321Z
LAST-MODIFIED:20240501T001321Z
UID:36625-1715299200-1715385599@www.hwanil.hs.kr
SUMMARY:고2 스포츠 축전
DESCRIPTION:
URL:https://www.hwanil.hs.kr/event/%ea%b3%a02-%ec%8a%a4%ed%8f%ac%ec%b8%a0-%ec%b6%95%ec%a0%84-3/
CATEGORIES:학사일정
END:VEVENT
END:VCALENDAR