BEGIN:VCALENDAR
VERSION:2.0
PRODID:-//환일고등학교 - ECPv6.15.18//NONSGML v1.0//EN
CALSCALE:GREGORIAN
METHOD:PUBLISH
X-ORIGINAL-URL:https://www.hwanil.hs.kr
X-WR-CALDESC:Events for 환일고등학교
REFRESH-INTERVAL;VALUE=DURATION:PT1H
X-Robots-Tag:noindex
X-PUBLISHED-TTL:PT1H
BEGIN:VTIMEZONE
TZID:Asia/Seoul
BEGIN:STANDARD
TZOFFSETFROM:+0900
TZOFFSETTO:+0900
TZNAME:KST
DTSTART:20230101T000000
END:STANDARD
END:VTIMEZONE
BEGIN:VEVENT
DTSTART;VALUE=DATE:20240322
DTEND;VALUE=DATE:20240323
DTSTAMP:20260423T102858
CREATED:20240305T003706Z
LAST-MODIFIED:20240305T003734Z
UID:36196-1711065600-1711151999@www.hwanil.hs.kr
SUMMARY:수업 공개 및 학교 방문의 날
DESCRIPTION:
URL:https://www.hwanil.hs.kr/event/%ec%88%98%ec%97%85-%ea%b3%b5%ea%b0%9c-%eb%b0%8f-%ed%95%99%ea%b5%90-%eb%b0%a9%eb%ac%b8%ec%9d%98-%eb%82%a0/
CATEGORIES:학사일정
END:VEVENT
END:VCALENDAR