BEGIN:VCALENDAR
VERSION:2.0
PRODID:-//환일고등학교 - ECPv6.15.18//NONSGML v1.0//EN
CALSCALE:GREGORIAN
METHOD:PUBLISH
X-ORIGINAL-URL:https://www.hwanil.hs.kr
X-WR-CALDESC:Events for 환일고등학교
REFRESH-INTERVAL;VALUE=DURATION:PT1H
X-Robots-Tag:noindex
X-PUBLISHED-TTL:PT1H
BEGIN:VTIMEZONE
TZID:Asia/Seoul
BEGIN:STANDARD
TZOFFSETFROM:+0900
TZOFFSETTO:+0900
TZNAME:KST
DTSTART:20220101T000000
END:STANDARD
END:VTIMEZONE
BEGIN:VEVENT
DTSTART;VALUE=DATE:20231027
DTEND;VALUE=DATE:20231028
DTSTAMP:20260423T170649
CREATED:20231013T040432Z
LAST-MODIFIED:20231013T040506Z
UID:35537-1698364800-1698451199@www.hwanil.hs.kr
SUMMARY:2023 학부모 설명회
DESCRIPTION:
URL:https://www.hwanil.hs.kr/event/2023-%eb%b4%89%ed%95%99%eb%a7%88%eb%a3%a8%ec%a0%9c/
CATEGORIES:학사일정
END:VEVENT
END:VCALENDAR