BEGIN:VCALENDAR
VERSION:2.0
PRODID:-//환일고등학교 - ECPv6.15.18//NONSGML v1.0//EN
CALSCALE:GREGORIAN
METHOD:PUBLISH
X-ORIGINAL-URL:https://www.hwanil.hs.kr
X-WR-CALDESC:Events for 환일고등학교
REFRESH-INTERVAL;VALUE=DURATION:PT1H
X-Robots-Tag:noindex
X-PUBLISHED-TTL:PT1H
BEGIN:VTIMEZONE
TZID:Asia/Seoul
BEGIN:STANDARD
TZOFFSETFROM:+0900
TZOFFSETTO:+0900
TZNAME:KST
DTSTART:20220101T000000
END:STANDARD
END:VTIMEZONE
BEGIN:VEVENT
DTSTART;VALUE=DATE:20231004
DTEND;VALUE=DATE:20231012
DTSTAMP:20260423T170109
CREATED:20230908T010915Z
LAST-MODIFIED:20230908T010915Z
UID:35289-1696377600-1697068799@www.hwanil.hs.kr
SUMMARY:고2 중간고사
DESCRIPTION:
URL:https://www.hwanil.hs.kr/event/%ea%b3%a02-%ec%a4%91%ea%b0%84%ea%b3%a0%ec%82%ac-3/
CATEGORIES:학사일정
END:VEVENT
END:VCALENDAR