BEGIN:VCALENDAR
VERSION:2.0
PRODID:-//환일고등학교 - ECPv6.15.18//NONSGML v1.0//EN
CALSCALE:GREGORIAN
METHOD:PUBLISH
X-ORIGINAL-URL:https://www.hwanil.hs.kr
X-WR-CALDESC:Events for 환일고등학교
REFRESH-INTERVAL;VALUE=DURATION:PT1H
X-Robots-Tag:noindex
X-PUBLISHED-TTL:PT1H
BEGIN:VTIMEZONE
TZID:Asia/Seoul
BEGIN:STANDARD
TZOFFSETFROM:+0900
TZOFFSETTO:+0900
TZNAME:KST
DTSTART:20220101T000000
END:STANDARD
END:VTIMEZONE
BEGIN:VEVENT
DTSTART;VALUE=DATE:20230213
DTEND;VALUE=DATE:20230217
DTSTAMP:20260424T054813
CREATED:20230125T010229Z
LAST-MODIFIED:20230125T010229Z
UID:33830-1676246400-1676591999@www.hwanil.hs.kr
SUMMARY:신입생 OT
DESCRIPTION:
URL:https://www.hwanil.hs.kr/event/%ec%8b%a0%ec%9e%85%ec%83%9d-ot/
CATEGORIES:학사일정
END:VEVENT
END:VCALENDAR