BEGIN:VCALENDAR
VERSION:2.0
PRODID:-//환일고등학교 - ECPv6.15.18//NONSGML v1.0//EN
CALSCALE:GREGORIAN
METHOD:PUBLISH
X-WR-CALNAME:환일고등학교
X-ORIGINAL-URL:https://www.hwanil.hs.kr
X-WR-CALDESC:Events for 환일고등학교
REFRESH-INTERVAL;VALUE=DURATION:PT1H
X-Robots-Tag:noindex
X-PUBLISHED-TTL:PT1H
BEGIN:VTIMEZONE
TZID:Asia/Seoul
BEGIN:STANDARD
TZOFFSETFROM:+0900
TZOFFSETTO:+0900
TZNAME:KST
DTSTART:20220101T000000
END:STANDARD
END:VTIMEZONE
BEGIN:VEVENT
DTSTART;VALUE=DATE:20230103
DTEND;VALUE=DATE:20230119
DTSTAMP:20260424T054156
CREATED:20221213T012727Z
LAST-MODIFIED:20221213T012727Z
UID:33662-1672704000-1674086399@www.hwanil.hs.kr
SUMMARY:겨울방학 방과후학교
DESCRIPTION:
URL:https://www.hwanil.hs.kr/event/%ea%b2%a8%ec%9a%b8%eb%b0%a9%ed%95%99-%eb%b0%a9%ea%b3%bc%ed%9b%84%ed%95%99%ea%b5%90/
CATEGORIES:학사일정
END:VEVENT
END:VCALENDAR