BEGIN:VCALENDAR
VERSION:2.0
PRODID:-//환일고등학교 - ECPv6.15.18//NONSGML v1.0//EN
CALSCALE:GREGORIAN
METHOD:PUBLISH
X-WR-CALNAME:환일고등학교
X-ORIGINAL-URL:https://www.hwanil.hs.kr
X-WR-CALDESC:Events for 환일고등학교
REFRESH-INTERVAL;VALUE=DURATION:PT1H
X-Robots-Tag:noindex
X-PUBLISHED-TTL:PT1H
BEGIN:VTIMEZONE
TZID:Asia/Seoul
BEGIN:STANDARD
TZOFFSETFROM:+0900
TZOFFSETTO:+0900
TZNAME:KST
DTSTART:20210101T000000
END:STANDARD
END:VTIMEZONE
BEGIN:VEVENT
DTSTART;VALUE=DATE:20221004
DTEND;VALUE=DATE:20221012
DTSTAMP:20260424T092615
CREATED:20220927T030524Z
LAST-MODIFIED:20220927T030524Z
UID:33080-1664841600-1665532799@www.hwanil.hs.kr
SUMMARY:고2 중간고사
DESCRIPTION:
URL:https://www.hwanil.hs.kr/event/%ea%b3%a02-%ec%a4%91%ea%b0%84%ea%b3%a0%ec%82%ac-2/
CATEGORIES:학사일정
END:VEVENT
BEGIN:VEVENT
DTSTART;VALUE=DATE:20221005
DTEND;VALUE=DATE:20221012
DTSTAMP:20260424T092615
CREATED:20220927T030606Z
LAST-MODIFIED:20220927T030606Z
UID:33082-1664928000-1665532799@www.hwanil.hs.kr
SUMMARY:고1\, 3 중간고사
DESCRIPTION:
URL:https://www.hwanil.hs.kr/event/%ea%b3%a01-3-%ec%a4%91%ea%b0%84%ea%b3%a0%ec%82%ac/
CATEGORIES:학사일정
END:VEVENT
END:VCALENDAR