BEGIN:VCALENDAR
VERSION:2.0
PRODID:-//환일고등학교 - ECPv6.15.18//NONSGML v1.0//EN
CALSCALE:GREGORIAN
METHOD:PUBLISH
X-WR-CALNAME:환일고등학교
X-ORIGINAL-URL:https://www.hwanil.hs.kr
X-WR-CALDESC:Events for 환일고등학교
REFRESH-INTERVAL;VALUE=DURATION:PT1H
X-Robots-Tag:noindex
X-PUBLISHED-TTL:PT1H
BEGIN:VTIMEZONE
TZID:Asia/Seoul
BEGIN:STANDARD
TZOFFSETFROM:+0900
TZOFFSETTO:+0900
TZNAME:KST
DTSTART:20200101T000000
END:STANDARD
END:VTIMEZONE
BEGIN:VEVENT
DTSTART;VALUE=DATE:20211210
DTEND;VALUE=DATE:20211217
DTSTAMP:20260424T222048
CREATED:20211202T011740Z
LAST-MODIFIED:20211202T011840Z
UID:28797-1639094400-1639699199@www.hwanil.hs.kr
SUMMARY:2021 2학기 고2 기말고사
DESCRIPTION:
URL:https://www.hwanil.hs.kr/event/2021-2%ed%95%99%ea%b8%b0-%ea%b3%a02-%ea%b8%b0%eb%a7%90%ea%b3%a0%ec%82%ac/
CATEGORIES:학사일정
END:VEVENT
BEGIN:VEVENT
DTSTART;VALUE=DATE:20211213
DTEND;VALUE=DATE:20211217
DTSTAMP:20260424T222048
CREATED:20211202T011929Z
LAST-MODIFIED:20211202T011929Z
UID:28799-1639353600-1639699199@www.hwanil.hs.kr
SUMMARY:2021 2학기 고1 기말고사
DESCRIPTION:
URL:https://www.hwanil.hs.kr/event/2021-2%ed%95%99%ea%b8%b0-%ea%b3%a01-%ea%b8%b0%eb%a7%90%ea%b3%a0%ec%82%ac/
CATEGORIES:학사일정
END:VEVENT
END:VCALENDAR